Workbook

Sheet ВВОД
A3: ОПРЕДЕЛИТЕ ДАТУ НАЧАЛА ПРОЕКТА. ЗАПОЛНИТЕ ЖЕЛТОЕ ПОЛЕ | H3: ДАТА НАЧАЛА ПРОЕКТА: | J3: 45574
A7: ОПРЕДЕЛИТЕ ДЛИТЕЛЬНОСТЬ ЭТАПОВ ПРОЕКТА | H7: № | I7: ЭТАП | J7: НАЧАЛО | K7: КОНЕЦ | L7: ДЛИТЕЛЬНОСТЬ, дни
A8: 1. Введите продолжительность этапа "Подготовка и открытие" в днях. Напоминаем, что длительность данного периода от 2 до 3 недель (14-21 день). | H8: 1 | I8: Старт проекта | J8: =J3 -> 45574 | K8: =J8+L8-1 -> 45594 | L8: 21
A9: 2. Введите продолжительность этапа "Диагностика и целевое состояние" в днях. Напоминаем, что длительность данного этапа от 4 до 5 недель (28-35 день). | H9: 2 | I9: Диагностика и целевое состояние | J9: =K8+1 -> 45595 | K9: =J9+L9-1 -> 45629 | L9: 35
A10: 3. Введите продолжительность этапа "ВНЕДРЕНИЕ УЛУЧШЕНИЙ" в днях. Напоминаем, что длительность данного этапа от 8 до 10 недель (56-70 дней). | I10: 2.1. разработка карты текущего состояния процесса | J10: =J9 -> 45595 | K10: =J10+L10 -> 45602 | L10: 7
A11: 4. Введите продолжительность этапа "МОНИТОРИНГ УСТОЙЧИВОСТИ УЛУЧШЕНИЙ", длительность данного этапа от 3 до 4 недель (21-28 дней) | I11: 2.2. анализ и оценка текущего состояния процесса | J11: =K10+1 -> 45603 | K11: =J11+7 -> 45610 | L11: 7
A12: 5. Введите продолжительность этапа "ЗАКРЕПЛЕНИЕ РЕЗУЛЬТАТОВ И ЗАКРЫТИЕ ПРОЕКТА" в днях. Напоминаем, что длительность данного этапа от 3 до 4 недель (21-28 дней). | I12: 2.3. разработка карты целевого состояния процесса | J12: =K11+1 -> 45611 | K12: =J12+L12 -> 45618 | L12: 7
I13: 2.4. разработка плана реализации проекта | J13: =K12+1 -> 45619 | K13: =J13+10 -> 45629 | L13: 9
I14: kick-off проекта | J14: =K13+1 -> 45630 | K14: =J14 -> 45630 | L14: 1
H15: 3 | I15: Внедрение улучшений | J15: =K14+1 -> 45631 | K15: =J15+70 -> 45701 | L15: 70
H16: 4 | I16: Мониторинг устойчивости улучшений | J16: =K15+1 -> 45702 | K16: =J16+21 -> 45723 | L16: 21
H17: 5 | I17: Закрепление результатов и закрытие проекта | J17: =K16+1 -> 45724 | K17: =J17+L17 -> 45731 | L17: 7
L19: Длительность проекта 22 недели

Sheet ДОРОЖНАЯ КАРТА
B1: Дорожная карта проекта "Название проекта"
B4: № | C4: Мероприятия/плановые сроки реализации | G4: =ВВОД!J8 -> 45574 | H4: =ВВОД!J9 -> 45595 | I4: =H4 -> 45595 | J4: =I5+1 -> 45603 | K4: =J5+1 -> 45611 | L4: =K5+1 -> 45619 | M4: =ВВОД!J15 -> 45631 | N4: =ВВОД!J16 -> 45702 | O4: =N5+1 -> 45724
G5: =ВВОД!K8 -> 45594 | H5: =ВВОД!K9 -> 45629 | I5: =I4+7 -> 45602 | J5: =J4+7 -> 45610 | K5: =K4+7 -> 45618 | L5: =L4+10 -> 45629 | M5: =ВВОД!K15 -> 45701 | N5: =N4+21 -> 45723 | O5: =O4+7 -> 45731
B6: 1 | C6: Подготовка и открытие проекта
B7: 2 | C7: Диагностика и целевое состояние
B8: 2.1. | C8: разработка карты текущего состояния процесса
B9: 2.2. | C9: анализ и оценка текущего состояния процесса
B10: 2.3. | C10: разработка карты целевого состояния процесса
B11: 2.4. | C11: разработка плана реализации проекта
B12: 3 | C12: Внедрение улучшений
B13: 4 | C13: Мониторинг устойчивости улучшений
B14: 5 | C14: Закрепление результатов и закрытие проекта
B16: Подпись руководителя проекта и контакты:
G17: (ФИО) | M17: (Контакты: тел., e-mail) | O17: (подпись)
